Package: SIMD Version: 1.27.0 Command: /home/biocbuild/R/R/bin/R CMD INSTALL SIMD StartedAt: 2025-10-23 20:19:10 -0000 (Thu, 23 Oct 2025) EndedAt: 2025-10-23 20:19:43 -0000 (Thu, 23 Oct 2025) EllapsedTime: 32.3 seconds RetCode: 0 Status: OK