Package: SIMD Version: 1.27.0 Command: /home/biocbuild/bbs-3.22-bioc/R/bin/R CMD check --install=check:SIMD.install-out.txt --library=/home/biocbuild/bbs-3.22-bioc/R/site-library --timings SIMD_1.27.0.tar.gz StartedAt: 2025-10-06 04:25:28 -0400 (Mon, 06 Oct 2025) EndedAt: 2025-10-06 04:26:00 -0400 (Mon, 06 Oct 2025) EllapsedTime: 32.0 seconds RetCode: 0 Status: OK CheckDir: SIMD.Rcheck Warnings: 0