Package: SIMD Version: 1.29.0 Command: /home/biocbuild/bbs-3.23-bioc/R/bin/R CMD INSTALL SIMD StartedAt: 2025-11-20 15:03:09 -0500 (Thu, 20 Nov 2025) EndedAt: 2025-11-20 15:03:26 -0500 (Thu, 20 Nov 2025) EllapsedTime: 17.6 seconds RetCode: 0 Status: OK