Package: SIMD Version: 1.29.0 Command: /home/biocbuild/bbs-3.23-bioc/R/bin/R CMD check --install=check:SIMD.install-out.txt --library=/home/biocbuild/bbs-3.23-bioc/R/site-library --timings SIMD_1.29.0.tar.gz StartedAt: 2025-11-22 04:01:09 -0500 (Sat, 22 Nov 2025) EndedAt: 2025-11-22 04:01:35 -0500 (Sat, 22 Nov 2025) EllapsedTime: 26.0 seconds RetCode: 0 Status: OK CheckDir: SIMD.Rcheck Warnings: 0