Package: SIMAT Version: 1.41.0 Command: /home/biocbuild/R/R/bin/R CMD INSTALL SIMAT StartedAt: 2025-09-29 20:57:11 -0000 (Mon, 29 Sep 2025) EndedAt: 2025-09-29 20:57:21 -0000 (Mon, 29 Sep 2025) EllapsedTime: 10.6 seconds RetCode: 0 Status: OK