Package: SIMAT Version: 1.43.0 Command: /home/biocbuild/bbs-3.23-bioc/R/bin/R CMD check --install=check:SIMAT.install-out.txt --library=/home/biocbuild/bbs-3.23-bioc/R/site-library --timings SIMAT_1.43.0.tar.gz StartedAt: 2025-11-21 04:00:05 -0500 (Fri, 21 Nov 2025) EndedAt: 2025-11-21 04:01:24 -0500 (Fri, 21 Nov 2025) EllapsedTime: 79.1 seconds RetCode: 0 Status: OK CheckDir: SIMAT.Rcheck Warnings: 0