Package: SIM Version: 1.79.0 Command: /home/biocbuild/R/R/bin/R CMD INSTALL SIM StartedAt: 2025-10-16 21:42:34 -0000 (Thu, 16 Oct 2025) EndedAt: 2025-10-16 21:42:59 -0000 (Thu, 16 Oct 2025) EllapsedTime: 24.3 seconds RetCode: 0 Status: OK