Package: SIM Version: 1.79.0 Command: /home/biocbuild/bbs-3.22-bioc/R/bin/R CMD check --install=check:SIM.install-out.txt --library=/home/biocbuild/bbs-3.22-bioc/R/site-library --timings SIM_1.79.0.tar.gz StartedAt: 2025-10-09 04:49:00 -0400 (Thu, 09 Oct 2025) EndedAt: 2025-10-09 04:51:57 -0400 (Thu, 09 Oct 2025) EllapsedTime: 176.2 seconds RetCode: 0 Status: WARNINGS CheckDir: SIM.Rcheck Warnings: 1