Package: SIM Version: 1.81.0 Command: /home/biocbuild/bbs-3.23-bioc/R/bin/R CMD INSTALL SIM StartedAt: 2025-11-20 15:28:21 -0500 (Thu, 20 Nov 2025) EndedAt: 2025-11-20 15:28:39 -0500 (Thu, 20 Nov 2025) EllapsedTime: 18.1 seconds RetCode: 0 Status: OK