Package: SIM Version: 1.81.0 Command: /Library/Frameworks/R.framework/Resources/bin/R CMD INSTALL SIM StartedAt: 2025-11-20 15:30:23 -0500 (Thu, 20 Nov 2025) EndedAt: 2025-11-20 15:30:49 -0500 (Thu, 20 Nov 2025) EllapsedTime: 26.2 seconds RetCode: 0 Status: OK