Package: SIM Version: 1.81.0 Command: /Library/Frameworks/R.framework/Resources/bin/R CMD build --keep-empty-dirs --no-resave-data SIM StartedAt: 2025-11-20 18:44:21 -0500 (Thu, 20 Nov 2025) EndedAt: 2025-11-20 18:45:04 -0500 (Thu, 20 Nov 2025) EllapsedTime: 42.4 seconds RetCode: 0 Status: OK PackageFile: SIM_1.81.0.tar.gz PackageFileSize: 460.2 KiB