Package: SIM Version: 1.81.0 Command: rm -rf SIM.buildbin-libdir && mkdir SIM.buildbin-libdir && /Users/biocbuild/BBS/utils/build-universal.sh SIM_1.81.0.tar.gz /Library/Frameworks/R.framework/Resources/bin/R SIM.buildbin-libdir StartedAt: 2025-11-21 01:57:52 -0500 (Fri, 21 Nov 2025) EndedAt: 2025-11-21 01:58:27 -0500 (Fri, 21 Nov 2025) EllapsedTime: 34.7 seconds RetCode: 0 Status: OK PackageFile: SIM_1.81.0.tgz PackageFileSize: 616.6 KiB