Package: SICtools Version: 1.39.0 Command: /home/biocbuild/R/R/bin/R CMD INSTALL SICtools StartedAt: 2025-10-16 21:35:44 -0000 (Thu, 16 Oct 2025) EndedAt: 2025-10-16 21:36:31 -0000 (Thu, 16 Oct 2025) EllapsedTime: 46.8 seconds RetCode: 0 Status: OK