Package: SICtools Version: 1.39.0 Command: /home/biocbuild/R/R/bin/R CMD build --keep-empty-dirs --no-resave-data SICtools StartedAt: 2025-10-17 04:37:52 -0000 (Fri, 17 Oct 2025) EndedAt: 2025-10-17 04:38:55 -0000 (Fri, 17 Oct 2025) EllapsedTime: 63.0 seconds RetCode: 0 Status: OK PackageFile: SICtools_1.39.0.tar.gz PackageFileSize: 1.528 MiB