Package: SICtools Version: 1.39.0 Command: /home/biocbuild/bbs-3.22-bioc/R/bin/R CMD check --install=check:SICtools.install-out.txt --library=/home/biocbuild/bbs-3.22-bioc/R/site-library --timings SICtools_1.39.0.tar.gz StartedAt: 2025-10-16 04:58:27 -0400 (Thu, 16 Oct 2025) EndedAt: 2025-10-16 05:00:18 -0400 (Thu, 16 Oct 2025) EllapsedTime: 111.2 seconds RetCode: 0 Status: WARNINGS CheckDir: SICtools.Rcheck Warnings: 1