Package: SICtools Version: 1.41.0 Command: /home/biocbuild/bbs-3.23-bioc/R/bin/R CMD build --keep-empty-dirs --no-resave-data SICtools StartedAt: 2025-11-05 20:04:41 -0500 (Wed, 05 Nov 2025) EndedAt: 2025-11-05 20:05:27 -0500 (Wed, 05 Nov 2025) EllapsedTime: 46.1 seconds RetCode: 0 Status: OK PackageFile: SICtools_1.41.0.tar.gz PackageFileSize: 1.531 MiB