Package: SIAMCAT Version: 2.15.0 Command: /home/biocbuild/bbs-3.23-bioc/R/bin/R CMD INSTALL SIAMCAT StartedAt: 2025-11-20 15:21:49 -0500 (Thu, 20 Nov 2025) EndedAt: 2025-11-20 15:22:20 -0500 (Thu, 20 Nov 2025) EllapsedTime: 30.8 seconds RetCode: 0 Status: OK