Package: SIAMCAT Version: 2.15.0 Command: /home/biocbuild/bbs-3.23-bioc/R/bin/R CMD build --keep-empty-dirs --no-resave-data SIAMCAT StartedAt: 2025-11-20 20:04:08 -0500 (Thu, 20 Nov 2025) EndedAt: 2025-11-20 20:07:17 -0500 (Thu, 20 Nov 2025) EllapsedTime: 189.2 seconds RetCode: 0 Status: OK PackageFile: SIAMCAT_2.15.0.tar.gz PackageFileSize: 18.84 MiB