Package: SIAMCAT Version: 2.13.0 Command: rm -rf SIAMCAT.buildbin-libdir && mkdir SIAMCAT.buildbin-libdir && /Users/biocbuild/BBS/utils/build-universal.sh SIAMCAT_2.13.0.tar.gz /Library/Frameworks/R.framework/Resources/bin/R SIAMCAT.buildbin-libdir StartedAt: 2025-10-25 02:04:26 -0400 (Sat, 25 Oct 2025) EndedAt: 2025-10-25 02:05:14 -0400 (Sat, 25 Oct 2025) EllapsedTime: 48.5 seconds RetCode: 0 Status: OK PackageFile: SIAMCAT_2.13.0.tgz PackageFileSize: 10.76 MiB