Package: SIAMCAT Version: 2.13.0 Command: /Library/Frameworks/R.framework/Resources/bin/R CMD INSTALL SIAMCAT StartedAt: 2025-10-10 15:10:45 -0400 (Fri, 10 Oct 2025) EndedAt: 2025-10-10 15:10:57 -0400 (Fri, 10 Oct 2025) EllapsedTime: 11.9 seconds RetCode: 0 Status: OK