Package: SIAMCAT Version: 2.13.0 Command: /Library/Frameworks/R.framework/Resources/bin/R CMD build --keep-empty-dirs --no-resave-data SIAMCAT StartedAt: 2025-10-10 17:43:12 -0400 (Fri, 10 Oct 2025) EndedAt: 2025-10-10 17:44:43 -0400 (Fri, 10 Oct 2025) EllapsedTime: 91.0 seconds RetCode: 0 Status: OK PackageFile: SIAMCAT_2.13.0.tar.gz PackageFileSize: 18.86 MiB