Package: SGSeq Version: 1.43.1 Command: /home/biocbuild/R/R/bin/R CMD INSTALL SGSeq StartedAt: 2025-10-20 21:04:07 -0000 (Mon, 20 Oct 2025) EndedAt: 2025-10-20 21:05:00 -0000 (Mon, 20 Oct 2025) EllapsedTime: 53.3 seconds RetCode: 0 Status: OK