Package: SGSeq Version: 1.43.1 Command: /home/biocbuild/R/R/bin/R CMD build --keep-empty-dirs --no-resave-data SGSeq StartedAt: 2025-10-21 03:08:14 -0000 (Tue, 21 Oct 2025) EndedAt: 2025-10-21 03:12:59 -0000 (Tue, 21 Oct 2025) EllapsedTime: 285.1 seconds RetCode: 0 Status: OK PackageFile: SGSeq_1.43.1.tar.gz PackageFileSize: 1.68 MiB