Package: SGSeq Version: 1.43.1 Command: /home/biocbuild/bbs-3.22-bioc/R/bin/R CMD check --install=check:SGSeq.install-out.txt --library=/home/biocbuild/bbs-3.22-bioc/R/site-library --timings SGSeq_1.43.1.tar.gz StartedAt: 2025-10-21 04:40:34 -0400 (Tue, 21 Oct 2025) EndedAt: 2025-10-21 04:52:01 -0400 (Tue, 21 Oct 2025) EllapsedTime: 687.6 seconds RetCode: 0 Status: OK CheckDir: SGSeq.Rcheck Warnings: 0