Package: SGSeq Version: 1.45.0 Command: /home/biocbuild/bbs-3.23-bioc/R/bin/R CMD INSTALL SGSeq StartedAt: 2025-11-05 15:50:53 -0500 (Wed, 05 Nov 2025) EndedAt: 2025-11-05 15:51:34 -0500 (Wed, 05 Nov 2025) EllapsedTime: 40.5 seconds RetCode: 0 Status: OK