Package: SGSeq Version: 1.45.0 Command: /home/biocbuild/bbs-3.23-bioc/R/bin/R CMD build --keep-empty-dirs --no-resave-data SGSeq StartedAt: 2025-11-06 19:56:18 -0500 (Thu, 06 Nov 2025) EndedAt: 2025-11-06 19:59:39 -0500 (Thu, 06 Nov 2025) EllapsedTime: 201.2 seconds RetCode: 0 Status: OK PackageFile: SGSeq_1.45.0.tar.gz PackageFileSize: 1.755 MiB