Package: SGSeq Version: 1.43.1 Maintainer: Leonard Goldstein MaintainerEmail: ldgoldstein at gmail.com git_url: https://git.bioconductor.org/packages/SGSeq git_branch: devel git_last_commit: de154f1 git_last_commit_date: 2025-07-22 15:24:36 -0400 (Tue, 22 Jul 2025)