Package: SGCP Version: 1.9.0 Command: /Library/Frameworks/R.framework/Resources/bin/R CMD INSTALL SGCP StartedAt: 2025-10-12 15:21:02 -0400 (Sun, 12 Oct 2025) EndedAt: 2025-10-12 15:21:25 -0400 (Sun, 12 Oct 2025) EllapsedTime: 22.3 seconds RetCode: 0 Status: OK