Package: SGCP Version: 1.9.0 Command: /Library/Frameworks/R.framework/Resources/bin/R CMD build --keep-empty-dirs --no-resave-data SGCP StartedAt: 2025-10-12 17:40:48 -0400 (Sun, 12 Oct 2025) EndedAt: 2025-10-12 17:41:17 -0400 (Sun, 12 Oct 2025) EllapsedTime: 29.3 seconds RetCode: 1 Status: ERROR PackageFile: None PackageFileSize: NA