Package: SEtools Version: 1.25.0 Command: /home/biocbuild/bbs-3.23-bioc/R/bin/R CMD INSTALL SEtools StartedAt: 2025-11-05 15:35:23 -0500 (Wed, 05 Nov 2025) EndedAt: 2025-11-05 15:35:58 -0500 (Wed, 05 Nov 2025) EllapsedTime: 34.8 seconds RetCode: 0 Status: OK