Package: SEtools Version: 1.25.0 Command: /home/biocbuild/bbs-3.23-bioc/R/bin/R CMD build --keep-empty-dirs --no-resave-data SEtools StartedAt: 2025-11-05 20:03:25 -0500 (Wed, 05 Nov 2025) EndedAt: 2025-11-05 20:04:15 -0500 (Wed, 05 Nov 2025) EllapsedTime: 50.0 seconds RetCode: 0 Status: OK PackageFile: SEtools_1.25.0.tar.gz PackageFileSize: 538.7 KiB