Package: SEtools Version: 1.23.3 Command: /Library/Frameworks/R.framework/Resources/bin/R CMD INSTALL SEtools StartedAt: 2025-10-13 15:27:58 -0400 (Mon, 13 Oct 2025) EndedAt: 2025-10-13 15:28:46 -0400 (Mon, 13 Oct 2025) EllapsedTime: 48.2 seconds RetCode: 0 Status: OK