Package: SEtools Version: 1.23.3 Command: /Library/Frameworks/R.framework/Resources/bin/R CMD build --keep-empty-dirs --no-resave-data SEtools StartedAt: 2025-10-13 19:22:15 -0400 (Mon, 13 Oct 2025) EndedAt: 2025-10-13 19:23:20 -0400 (Mon, 13 Oct 2025) EllapsedTime: 65.1 seconds RetCode: 0 Status: OK PackageFile: SEtools_1.23.3.tar.gz PackageFileSize: 538.6 KiB