Package: SEtools Version: 1.23.3 Command: rm -rf SEtools.buildbin-libdir && mkdir SEtools.buildbin-libdir && /Users/biocbuild/BBS/utils/build-universal.sh SEtools_1.23.3.tar.gz /Library/Frameworks/R.framework/Resources/bin/R SEtools.buildbin-libdir StartedAt: 2025-10-14 03:08:32 -0400 (Tue, 14 Oct 2025) EndedAt: 2025-10-14 03:09:22 -0400 (Tue, 14 Oct 2025) EllapsedTime: 50.7 seconds RetCode: 0 Status: OK PackageFile: SEtools_1.23.3.tgz PackageFileSize: 377.6 KiB