Package: SEraster Version: 1.3.0 Command: /home/biocbuild/bbs-3.23-bioc/R/bin/R CMD INSTALL SEraster StartedAt: 2025-11-20 15:19:36 -0500 (Thu, 20 Nov 2025) EndedAt: 2025-11-20 15:20:04 -0500 (Thu, 20 Nov 2025) EllapsedTime: 28.5 seconds RetCode: 0 Status: OK