Package: SEraster Version: 1.3.0 Command: /home/biocbuild/bbs-3.23-bioc/R/bin/R CMD build --keep-empty-dirs --no-resave-data SEraster StartedAt: 2025-11-20 20:02:40 -0500 (Thu, 20 Nov 2025) EndedAt: 2025-11-20 20:09:22 -0500 (Thu, 20 Nov 2025) EllapsedTime: 402.4 seconds RetCode: 0 Status: OK PackageFile: SEraster_1.3.0.tar.gz PackageFileSize: 2.72 MiB