Package: SEraster Version: 1.3.0 Command: /Library/Frameworks/R.framework/Resources/bin/R CMD build --keep-empty-dirs --no-resave-data SEraster StartedAt: 2025-11-20 18:42:19 -0500 (Thu, 20 Nov 2025) EndedAt: 2025-11-20 18:48:50 -0500 (Thu, 20 Nov 2025) EllapsedTime: 390.9 seconds RetCode: 0 Status: OK PackageFile: SEraster_1.3.0.tar.gz PackageFileSize: 3.164 MiB