Package: SEraster Version: 1.3.0 Command: rm -rf SEraster.buildbin-libdir && mkdir SEraster.buildbin-libdir && /Users/biocbuild/BBS/utils/build-universal.sh SEraster_1.3.0.tar.gz /Library/Frameworks/R.framework/Resources/bin/R SEraster.buildbin-libdir StartedAt: 2025-11-21 01:57:11 -0500 (Fri, 21 Nov 2025) EndedAt: 2025-11-21 01:57:55 -0500 (Fri, 21 Nov 2025) EllapsedTime: 43.7 seconds RetCode: 0 Status: OK PackageFile: SEraster_1.3.0.tgz PackageFileSize: 3.201 MiB