Package: SEraster Version: 1.1.0 Command: /Library/Frameworks/R.framework/Resources/bin/R CMD INSTALL SEraster StartedAt: 2025-10-15 15:13:31 -0400 (Wed, 15 Oct 2025) EndedAt: 2025-10-15 15:13:42 -0400 (Wed, 15 Oct 2025) EllapsedTime: 11.3 seconds RetCode: 0 Status: OK