Package: SEraster Version: 1.1.0 Command: rm -rf SEraster.buildbin-libdir && mkdir SEraster.buildbin-libdir && /Users/biocbuild/BBS/utils/build-universal.sh SEraster_1.1.0.tar.gz /Library/Frameworks/R.framework/Resources/bin/R SEraster.buildbin-libdir StartedAt: 2025-10-15 23:02:31 -0400 (Wed, 15 Oct 2025) EndedAt: 2025-10-15 23:02:44 -0400 (Wed, 15 Oct 2025) EllapsedTime: 12.3 seconds RetCode: 0 Status: OK PackageFile: SEraster_1.1.0.tgz PackageFileSize: 3.202 MiB