Package: SETA Version: 0.99.6 Command: /home/biocbuild/bbs-3.22-bioc/R/bin/R CMD INSTALL SETA StartedAt: 2025-10-03 15:18:20 -0400 (Fri, 03 Oct 2025) EndedAt: 2025-10-03 15:18:43 -0400 (Fri, 03 Oct 2025) EllapsedTime: 22.8 seconds RetCode: 0 Status: OK