Package: SETA Version: 0.99.6 Command: /home/biocbuild/bbs-3.22-bioc/R/bin/R CMD check --install=check:SETA.install-out.txt --library=/home/biocbuild/bbs-3.22-bioc/R/site-library --timings SETA_0.99.6.tar.gz StartedAt: 2025-10-18 04:42:18 -0400 (Sat, 18 Oct 2025) EndedAt: 2025-10-18 04:46:43 -0400 (Sat, 18 Oct 2025) EllapsedTime: 264.3 seconds RetCode: 1 Status: ERROR CheckDir: SETA.Rcheck Warnings: NA