Package: SETA Version: 0.99.6 Command: /home/biocbuild/bbs-3.22-bioc/R/bin/R CMD build --keep-empty-dirs --no-resave-data --md5 SETA StartedAt: 2025-10-03 20:01:28 -0400 (Fri, 03 Oct 2025) EndedAt: 2025-10-03 20:03:07 -0400 (Fri, 03 Oct 2025) EllapsedTime: 99.1 seconds RetCode: 0 Status: OK PackageFile: SETA_0.99.6.tar.gz PackageFileSize: 4.656 MiB