Package: SETA Version: 1.1.0 Command: /home/biocbuild/bbs-3.23-bioc/R/bin/R CMD INSTALL SETA StartedAt: 2025-11-02 15:25:51 -0500 (Sun, 02 Nov 2025) EndedAt: 2025-11-02 15:26:14 -0500 (Sun, 02 Nov 2025) EllapsedTime: 22.9 seconds RetCode: 0 Status: OK