Package: SETA Version: 1.1.0 Command: /home/biocbuild/bbs-3.23-bioc/R/bin/R CMD build --keep-empty-dirs --no-resave-data SETA StartedAt: 2025-11-02 19:55:10 -0500 (Sun, 02 Nov 2025) EndedAt: 2025-11-02 19:56:37 -0500 (Sun, 02 Nov 2025) EllapsedTime: 86.1 seconds RetCode: 0 Status: OK PackageFile: SETA_1.1.0.tar.gz PackageFileSize: 4.648 MiB