Package: SETA Version: 0.99.6 Command: rm -rf SETA.buildbin-libdir && mkdir SETA.buildbin-libdir && /Users/biocbuild/BBS/utils/build-universal.sh SETA_0.99.6.tar.gz /Library/Frameworks/R.framework/Resources/bin/R SETA.buildbin-libdir StartedAt: 2025-10-04 02:29:54 -0400 (Sat, 04 Oct 2025) EndedAt: 2025-10-04 02:30:31 -0400 (Sat, 04 Oct 2025) EllapsedTime: 36.6 seconds RetCode: 0 Status: OK PackageFile: SETA_0.99.6.tgz PackageFileSize: 4.97 MiB