Package: SETA Version: 0.99.6 Command: /Library/Frameworks/R.framework/Resources/bin/R CMD INSTALL SETA StartedAt: 2025-10-05 15:12:30 -0400 (Sun, 05 Oct 2025) EndedAt: 2025-10-05 15:12:40 -0400 (Sun, 05 Oct 2025) EllapsedTime: 9.7 seconds RetCode: 0 Status: OK