Package: SETA Version: 0.99.6 Command: /Library/Frameworks/R.framework/Resources/bin/R CMD build --keep-empty-dirs --no-resave-data SETA StartedAt: 2025-10-05 17:46:35 -0400 (Sun, 05 Oct 2025) EndedAt: 2025-10-05 17:47:09 -0400 (Sun, 05 Oct 2025) EllapsedTime: 34.4 seconds RetCode: 0 Status: OK PackageFile: SETA_0.99.6.tar.gz PackageFileSize: 4.935 MiB