Package: SETA Version: 0.99.6 Maintainer: Kyle Kimler MaintainerEmail: kkimler at broadinstitute.org git_url: https://git.bioconductor.org/packages/SETA git_branch: devel git_last_commit: 020938d git_last_commit_date: 2025-09-28 22:25:50 -0400 (Sun, 28 Sep 2025)