Package: SELEX Version: 1.43.0 Command: /home/biocbuild/bbs-3.23-bioc/R/bin/R CMD build --keep-empty-dirs --no-resave-data SELEX StartedAt: 2025-11-04 19:54:28 -0500 (Tue, 04 Nov 2025) EndedAt: 2025-11-04 19:54:52 -0500 (Tue, 04 Nov 2025) EllapsedTime: 24.0 seconds RetCode: 0 Status: OK PackageFile: SELEX_1.43.0.tar.gz PackageFileSize: 4.034 MiB